BEGIN:VCALENDAR
PRODID:-//PUBBLE//agenda//NL
VERSION:2.0
METHOD:PUBLISH
BEGIN:VEVENT
DTSTART:20260526T170000Z
DTEND:20260526T190000Z
DTSTAMP:20260420T220512Z
UID:74055b46-7479-4757-9058-0924db62c79a
CREATED:20260420T220512Z
NAME:Lezing met bezichtiging van de bunker achter Camping Janse Zoutelande middelburgseveersebode.nl
X-WR-CALNAME:Lezing met bezichtiging van de bunker achter Camping Janse Zoutelande
X-ALT-DESC;FMTTYPE=text/html:<a href='/agenda/2026/5/26/lezing-met-bezichtiging-van-de-bunker-achter-camping-janse-zoutelande-171054'>/agenda/2026/5/26/lezing-met-bezichtiging-van-de-bunker-achter-camping-janse-zoutelande-171054</a> || <p>Camping Janse organiseert in samenwerking met Stichting Bunkerbehoud, Wings to Victory en Polderhuis Westkapelle lezingen met bezichtiging van de bunker achter Camping Janse aan het fietspad onderlangs de duinen tussen Zoutelande en Westkapelle.</p><p>De bunker is tijdelijk geopend op dinsdag 26 mei. Om 19.00 uur geeft historicus Hans Sakkers een lezing in het Nederlands over “De Slag om de Schelde”. Daarna kunt u binnen een kijkje nemen. Neem zelf licht mee! Het boek “In het spoor van de Slag om de Schelde” is dan verkrijgbaar! &nbsp;</p><p>Op zaterdag 30 mei tijdens Bunkerdag 2026 is de bunker geopend van 10.00 - 17.00 uur.</p><p><em>Omdat blijkt dat onder Duitse bezoekers veel belangstelling voor gebeurtenissen uit WOII bestaat wordt de lezing ook in het Duits gegeven.</em></p><p><em>&nbsp;</em></p><p>Öffnung des Bunkers hinter dem Camping Janse &nbsp; &nbsp; &nbsp; &nbsp; &nbsp; &nbsp; &nbsp; &nbsp; &nbsp; &nbsp; &nbsp; &nbsp; &nbsp; &nbsp; &nbsp; &nbsp; &nbsp; &nbsp; &nbsp; &nbsp;&nbsp;</p><p>Am Dienstag, 26. Mai können Sie einen Blick in den Bunker werfen. Um 20.00 Uhr hält der Historiker Hans Sakkers einen Vortrag für die Deutschen Gäste, danach können Sie sich im Inneren umsehen. Bringen Sie bitte Ihre eigene Beleuchtung mit! Das Buch “Auf den Spuren der Schlacht um die Schelde“ ist dann zu kaufen!</p><p>Am Samstag, 30. Mai, Tag des offenen Bunkers (Bunkerdag 2026) Öffnung von 10.00 – 17.00 Uhr.</p>
DESCRIPTION:<a href='/agenda/2026/5/26/lezing-met-bezichtiging-van-de-bunker-achter-camping-janse-zoutelande-171054'>/agenda/2026/5/26/lezing-met-bezichtiging-van-de-bunker-achter-camping-janse-zoutelande-171054</a> || <p>Camping Janse organiseert in samenwerking met Stichting Bunkerbehoud, Wings to Victory en Polderhuis Westkapelle lezingen met bezichtiging van de bunker achter Camping Janse aan het fietspad onderlangs de duinen tussen Zoutelande en Westkapelle.</p><p>De bunker is tijdelijk geopend op dinsdag 26 mei. Om 19.00 uur geeft historicus Hans Sakkers een lezing in het Nederlands over “De Slag om de Schelde”. Daarna kunt u binnen een kijkje nemen. Neem zelf licht mee! Het boek “In het spoor van de Slag om de Schelde” is dan verkrijgbaar! &nbsp;</p><p>Op zaterdag 30 mei tijdens Bunkerdag 2026 is de bunker geopend van 10.00 - 17.00 uur.</p><p><em>Omdat blijkt dat onder Duitse bezoekers veel belangstelling voor gebeurtenissen uit WOII bestaat wordt de lezing ook in het Duits gegeven.</em></p><p><em>&nbsp;</em></p><p>Öffnung des Bunkers hinter dem Camping Janse &nbsp; &nbsp; &nbsp; &nbsp; &nbsp; &nbsp; &nbsp; &nbsp; &nbsp; &nbsp; &nbsp; &nbsp; &nbsp; &nbsp; &nbsp; &nbsp; &nbsp; &nbsp; &nbsp; &nbsp;&nbsp;</p><p>Am Dienstag, 26. Mai können Sie einen Blick in den Bunker werfen. Um 20.00 Uhr hält der Historiker Hans Sakkers einen Vortrag für die Deutschen Gäste, danach können Sie sich im Inneren umsehen. Bringen Sie bitte Ihre eigene Beleuchtung mit! Das Buch “Auf den Spuren der Schlacht um die Schelde“ ist dann zu kaufen!</p><p>Am Samstag, 30. Mai, Tag des offenen Bunkers (Bunkerdag 2026) Öffnung von 10.00 – 17.00 Uhr.</p>
LAST-MODIFIED:20260420T220512Z
LOCATION: Bunker aan fietspad tussen Zoutelande en Westkapelle | Westkapelseweg 55a Zoutelande
SEQUENCE:0
STATUS:CONFIRMED
SUMMARY:Lezing met bezichtiging van de bunker achter Camping Janse Zoutelande
TRANSP:OPAQUE
END:VEVENT
END:VCALENDAR
