BEGIN:VCALENDAR
PRODID:-//PUBBLE//agenda//NL
VERSION:2.0
METHOD:PUBLISH
BEGIN:VEVENT
DTSTART:20260428T170000Z
DTEND:20260428T190000Z
DTSTAMP:20260421T005858Z
UID:3a0dba27-41c8-4eb3-83c4-b1ab6dc2e4e1
CREATED:20260421T005858Z
NAME:Lezing met bezichtiging van de bunker achter Camping Janse Zoutelande middelburgseveersebode.nl
X-WR-CALNAME:Lezing met bezichtiging van de bunker achter Camping Janse Zoutelande
X-ALT-DESC;FMTTYPE=text/html:<a href='/agenda/2026/4/28/lezing-met-bezichtiging-van-de-bunker-achter-camping-janse-zoutelande-171053'>/agenda/2026/4/28/lezing-met-bezichtiging-van-de-bunker-achter-camping-janse-zoutelande-171053</a> || <p>Camping Janse organiseert in samenwerking met Stichting Bunkerbehoud, Wings to Victory en Polderhuis Westkapelle lezingen met bezichtiging van de bunker achter Camping Janse aan het fietspad onderlangs de duinen tussen Zoutelande en Westkapelle.</p><p>De bunker is tijdelijk geopend op dinsdag 28 april. Om 19.00 uur geeft historicus Hans Sakkers een lezing in het Nederlands over “De Slag om de Schelde”. Daarna kunt u binnen een kijkje nemen. Neem zelf licht mee! Het boek “In het spoor van de Slag om de Schelde” is dan verkrijgbaar!&nbsp;</p><p><em>Omdat blijkt dat onder Duitse bezoekers veel belangstelling voor gebeurtenissen uit WOII bestaat wordt de lezing ook in het Duits gegeven.</em></p><p>Öffnung des Bunkers hinter dem Camping Janse &nbsp; &nbsp; &nbsp; &nbsp; &nbsp; &nbsp; &nbsp; &nbsp; &nbsp; &nbsp; &nbsp; &nbsp; &nbsp; &nbsp; &nbsp; &nbsp; &nbsp; &nbsp; &nbsp; &nbsp; &nbsp;</p><p>Am Dienstag, 28. April können Sie einen Blick in den Bunker werfen. Um 20.00 Uhr hält der Historiker Hans Sakkers einen Vortrag für die Deutschen Gäste, danach können Sie sich im Inneren umsehen. Bringen Sie bitte Ihre eigene Beleuchtung mit! Das Buch “Auf den Spuren der Schlacht um die Schelde“ ist dann zu kaufen!</p>
DESCRIPTION:<a href='/agenda/2026/4/28/lezing-met-bezichtiging-van-de-bunker-achter-camping-janse-zoutelande-171053'>/agenda/2026/4/28/lezing-met-bezichtiging-van-de-bunker-achter-camping-janse-zoutelande-171053</a> || <p>Camping Janse organiseert in samenwerking met Stichting Bunkerbehoud, Wings to Victory en Polderhuis Westkapelle lezingen met bezichtiging van de bunker achter Camping Janse aan het fietspad onderlangs de duinen tussen Zoutelande en Westkapelle.</p><p>De bunker is tijdelijk geopend op dinsdag 28 april. Om 19.00 uur geeft historicus Hans Sakkers een lezing in het Nederlands over “De Slag om de Schelde”. Daarna kunt u binnen een kijkje nemen. Neem zelf licht mee! Het boek “In het spoor van de Slag om de Schelde” is dan verkrijgbaar!&nbsp;</p><p><em>Omdat blijkt dat onder Duitse bezoekers veel belangstelling voor gebeurtenissen uit WOII bestaat wordt de lezing ook in het Duits gegeven.</em></p><p>Öffnung des Bunkers hinter dem Camping Janse &nbsp; &nbsp; &nbsp; &nbsp; &nbsp; &nbsp; &nbsp; &nbsp; &nbsp; &nbsp; &nbsp; &nbsp; &nbsp; &nbsp; &nbsp; &nbsp; &nbsp; &nbsp; &nbsp; &nbsp; &nbsp;</p><p>Am Dienstag, 28. April können Sie einen Blick in den Bunker werfen. Um 20.00 Uhr hält der Historiker Hans Sakkers einen Vortrag für die Deutschen Gäste, danach können Sie sich im Inneren umsehen. Bringen Sie bitte Ihre eigene Beleuchtung mit! Das Buch “Auf den Spuren der Schlacht um die Schelde“ ist dann zu kaufen!</p>
LAST-MODIFIED:20260421T005858Z
LOCATION: Bunker aan fietspad tussen Zoutelande en Westkapelle | Westkapelseweg 55a Zoutelande
SEQUENCE:0
STATUS:CONFIRMED
SUMMARY:Lezing met bezichtiging van de bunker achter Camping Janse Zoutelande
TRANSP:OPAQUE
END:VEVENT
END:VCALENDAR
