BEGIN:VCALENDAR
PRODID:-//PUBBLE//agenda//NL
VERSION:2.0
METHOD:PUBLISH
BEGIN:VEVENT
DTSTART:20260425T130000Z
DTEND:20260425T150000Z
DTSTAMP:20260425T034542Z
UID:a1a0adb9-cf92-4058-bb6e-601a973963b5
CREATED:20260425T034542Z
NAME:Is Immigratie goed voor ons? middelburgseveersebode.nl
X-WR-CALNAME:Is Immigratie goed voor ons?
X-ALT-DESC;FMTTYPE=text/html:<a href='/agenda/2026/4/25/is-immigratie-goed-voor-ons--171051'>/agenda/2026/4/25/is-immigratie-goed-voor-ons--171051</a> || <p>Al sinds 1492 komen er migranten naar Nederland. Denk aan Spaanse Joden en Franse Hugenoten. Na de Tweede Wereldoorlog stijgt het aantal migranten in Nederland sterk door de toenemende welvaart. Inwoners van de voormalige koloniën, arbeidsmigranten en vluchtelingen vormen dan de grootste migrantengroepen. Naar schatting 98% van de Nederlanders heeft buitenlandse voorouders. Sporen van migranten zijn overal te vinden. In archieven, musea en bij jou thuis. Standpunten zijn sterk ideologisch gekleurd en men moet van goeden huize komen om de politiek gepolariseerde standpunten te kunnen overbruggen.</p><p>Stelling 1: Massamigratie heeft Nederland rijk gemaakt;</p><p>Stelling 2: De VOC-mentaliteit kenmerkt nog steeds veel Nederlanders;</p><p>Stelling 3: Geen economische welvaart zonder migratie.</p>
DESCRIPTION:<a href='/agenda/2026/4/25/is-immigratie-goed-voor-ons--171051'>/agenda/2026/4/25/is-immigratie-goed-voor-ons--171051</a> || <p>Al sinds 1492 komen er migranten naar Nederland. Denk aan Spaanse Joden en Franse Hugenoten. Na de Tweede Wereldoorlog stijgt het aantal migranten in Nederland sterk door de toenemende welvaart. Inwoners van de voormalige koloniën, arbeidsmigranten en vluchtelingen vormen dan de grootste migrantengroepen. Naar schatting 98% van de Nederlanders heeft buitenlandse voorouders. Sporen van migranten zijn overal te vinden. In archieven, musea en bij jou thuis. Standpunten zijn sterk ideologisch gekleurd en men moet van goeden huize komen om de politiek gepolariseerde standpunten te kunnen overbruggen.</p><p>Stelling 1: Massamigratie heeft Nederland rijk gemaakt;</p><p>Stelling 2: De VOC-mentaliteit kenmerkt nog steeds veel Nederlanders;</p><p>Stelling 3: Geen economische welvaart zonder migratie.</p>
LAST-MODIFIED:20260425T034542Z
LOCATION:  Palet | Johan van Reigersbergstraat 2 Middelburg
SEQUENCE:0
STATUS:CONFIRMED
SUMMARY:Is Immigratie goed voor ons?
TRANSP:OPAQUE
END:VEVENT
END:VCALENDAR
