BEGIN:VCALENDAR
PRODID:-//PUBBLE//agenda//NL
VERSION:2.0
METHOD:PUBLISH
BEGIN:VEVENT
DTSTART:20260424T170000Z
DTEND:20260524T174500Z
DTSTAMP:20260424T175557Z
UID:e71f5207-b221-4cc9-9716-179d1c6ebed6
CREATED:20260424T175557Z
NAME:Laatste vrijdag van de maand wandel je een Rondje Zachtheid middelburgseveersebode.nl
X-WR-CALNAME:Laatste vrijdag van de maand wandel je een Rondje Zachtheid
X-ALT-DESC;FMTTYPE=text/html:<a href='/agenda/2026/4/24/laatste-vrijdag-van-de-maand-wandel-je-een-rondje-zachtheid-170891'>/agenda/2026/4/24/laatste-vrijdag-van-de-maand-wandel-je-een-rondje-zachtheid-170891</a> || <p>Loop mee, maak deel uit van het Rondje Zachtheid in Middelburg, op vrijdag 24 april 2026 om 19 uur. Vertrek vanaf de voet van de Lange Jan. We keren daar zo’n drie kwartier later terug. Deelname is gratis, aanmelden is niet nodig. Je bent welkom.</p><p>Meer informatie: www.rondjezachtheid.nl</p>
DESCRIPTION:<a href='/agenda/2026/4/24/laatste-vrijdag-van-de-maand-wandel-je-een-rondje-zachtheid-170891'>/agenda/2026/4/24/laatste-vrijdag-van-de-maand-wandel-je-een-rondje-zachtheid-170891</a> || <p>Loop mee, maak deel uit van het Rondje Zachtheid in Middelburg, op vrijdag 24 april 2026 om 19 uur. Vertrek vanaf de voet van de Lange Jan. We keren daar zo’n drie kwartier later terug. Deelname is gratis, aanmelden is niet nodig. Je bent welkom.</p><p>Meer informatie: www.rondjezachtheid.nl</p>
LAST-MODIFIED:20260424T175557Z
LOCATION: Lange Jan | Abdij 1 Middelburg
SEQUENCE:0
STATUS:CONFIRMED
SUMMARY:Laatste vrijdag van de maand wandel je een Rondje Zachtheid
TRANSP:OPAQUE
END:VEVENT
END:VCALENDAR
