BEGIN:VCALENDAR
PRODID:-//PUBBLE//agenda//NL
VERSION:2.0
METHOD:PUBLISH
BEGIN:VEVENT
DTSTART:20260425T110000Z
DTEND:20260425T140000Z
DTSTAMP:20260425T035058Z
UID:13b78946-a632-409a-8705-9f98a47f8674
CREATED:20260425T035058Z
NAME:Westkappelse vuurtorens beklimmen middelburgseveersebode.nl
X-WR-CALNAME:Westkappelse vuurtorens beklimmen
X-ALT-DESC;FMTTYPE=text/html:<a href='/agenda/2026/4/25/westkappelse-vuurtorens-beklimmen-170847'>/agenda/2026/4/25/westkappelse-vuurtorens-beklimmen-170847</a> || <p>Beide Westkappelse vuurtorens zijn regelmatig geopend voor publiek.&nbsp;</p><p>Beklim de 179 treden van het Hoge Licht en geniet van het uitzicht over de Noordzee en Walcheren. Je hoeft niet in 1 keer al die treden te beklimmen. Op de 1e verdieping is er een expositie van 3 Walcherse schilders. Verder naar boven is het vuurtorenwachtersverblijf te zien, ingericht zoals vroeger. Ook is er informatie over de vuurtoren, die ooit een kerktoren was, te lezen en is een maquette van deze kerk te bewonderen.&nbsp;</p><p>Wanneer je boven aangekomen bent, is er een prachtig panoramisch uitzicht over zee en land!</p><p>Op het Lage Licht op de dijk kom je tot bij het vuurtorenlicht. De schepen varen dichtbij en met de aanwezige marifoon kun je de communicatie tussen de schepen volgen.&nbsp;</p><p>Onderweg naar boven is er een foto-expositie over 150 jaar Lage Licht te zien.&nbsp;</p><p>Voor openingstijden en toegangsprijzen van beide torens, kijk op&nbsp;</p><p>https://www.polderhuiswestkapelle.nl/nl/bezoek/</p>
DESCRIPTION:<a href='/agenda/2026/4/25/westkappelse-vuurtorens-beklimmen-170847'>/agenda/2026/4/25/westkappelse-vuurtorens-beklimmen-170847</a> || <p>Beide Westkappelse vuurtorens zijn regelmatig geopend voor publiek.&nbsp;</p><p>Beklim de 179 treden van het Hoge Licht en geniet van het uitzicht over de Noordzee en Walcheren. Je hoeft niet in 1 keer al die treden te beklimmen. Op de 1e verdieping is er een expositie van 3 Walcherse schilders. Verder naar boven is het vuurtorenwachtersverblijf te zien, ingericht zoals vroeger. Ook is er informatie over de vuurtoren, die ooit een kerktoren was, te lezen en is een maquette van deze kerk te bewonderen.&nbsp;</p><p>Wanneer je boven aangekomen bent, is er een prachtig panoramisch uitzicht over zee en land!</p><p>Op het Lage Licht op de dijk kom je tot bij het vuurtorenlicht. De schepen varen dichtbij en met de aanwezige marifoon kun je de communicatie tussen de schepen volgen.&nbsp;</p><p>Onderweg naar boven is er een foto-expositie over 150 jaar Lage Licht te zien.&nbsp;</p><p>Voor openingstijden en toegangsprijzen van beide torens, kijk op&nbsp;</p><p>https://www.polderhuiswestkapelle.nl/nl/bezoek/</p>
LAST-MODIFIED:20260425T035058Z
LOCATION: Vuurtoren Het Hoge Licht | Zuidstraat 1 Westkapelle
SEQUENCE:0
STATUS:CONFIRMED
SUMMARY:Westkappelse vuurtorens beklimmen
TRANSP:OPAQUE
END:VEVENT
END:VCALENDAR
